BEGIN:VCALENDAR
VERSION:2.0
PRODID:-//eventon.com NONSGML v1.0//EN
CALSCALE:GREGORIAN
METHOD:PUBLISH
BEGIN:VEVENT
UID:69e73e0e770d8
DTSTAMP:20260421T090622Z
DTSTART:20260412T060000Z
DTEND:20260412T100000Z
LOCATION:Auchy-au-Bois Salle des Fêtes 62190 AUCHY-AU-BOIS
SUMMARY:Marche & VTT 2026 - AUCHY-AU-BOIS
DESCRIPTION:2 parcours « VTT » de 20 &#8211; 45 kms 2 parcours « Marche 
 » de 6 &#8211; 12 kms\nhttps://mycyclingzone.fr/events/marche-vtt-2026-auc
 hy-au-bois/
URL:https://mycyclingzone.fr/events/marche-vtt-2026-auchy-au-bois/
END:VEVENT
END:VCALENDAR