BEGIN:VCALENDAR
VERSION:2.0
PRODID:-//eventon.com NONSGML v1.0//EN
CALSCALE:GREGORIAN
METHOD:PUBLISH
BEGIN:VEVENT
UID:69e8e11f89d40
DTSTAMP:20260422T145423Z
DTSTART:20260329T063000Z
DTEND:20260329T080000Z
LOCATION:Arras (3) Citadelle d'Arras\,  Salle Vauban 62000 ARRAS
SUMMARY:Randonnées Solidaires Jean-Marc Gallet 2026 - ARRAS
DESCRIPTION:2 parcours « VTT » de 27 &#8211; 40 kms 2 parcours « Marche/
 Course » de 6 &#8211; 14 kms\nhttps://mycyclingzone.fr/events/randonnees-s
 olidaires-jean-marc-gallet-2026-arras/
URL:https://mycyclingzone.fr/events/randonnees-solidaires-jean-marc-gallet-2026-arras/
END:VEVENT
END:VCALENDAR