BEGIN:VCALENDAR
VERSION:2.0
PRODID:-//eventon.com NONSGML v1.0//EN
CALSCALE:GREGORIAN
METHOD:PUBLISH
BEGIN:VEVENT
UID:69e8bfb928bdc
DTSTAMP:20260422T123153Z
DTSTART:20260628T053000Z
DTEND:20260628T100000Z
LOCATION:Blendecques Château de Westhove 62575 BLENDECQUES
SUMMARY:La Déjantée 2026 - BLENDECQUES
DESCRIPTION:3 parcours « VTT/Gravel » de 30 &#8211; 45 &#8211; 62 kms 3 p
 arcours « Marche » de 7 &#8211; 15 &#8211; 24 kms\nhttps://mycyclingzone.
 fr/events/la-dejantee-2026-blendecques/
URL:https://mycyclingzone.fr/events/la-dejantee-2026-blendecques/
END:VEVENT
END:VCALENDAR