BEGIN:VCALENDAR
VERSION:2.0
PRODID:-//eventon.com NONSGML v1.0//EN
CALSCALE:GREGORIAN
METHOD:PUBLISH
BEGIN:VEVENT
UID:69e8c1d0d1d08
DTSTAMP:20260422T124048Z
DTSTART:20260607T050000Z
DTEND:20260607T100000Z
LOCATION:Blessy 105 rue des Près 62120 BLESSY
SUMMARY:La Blessoise 2026 - BLESSY
DESCRIPTION:3 parcours « VTT » de 11 &#8211; 26 &#8211; 50 kms 1 parcours
  « Gravel » de 70 kms 5 parcours « Marche » de 6 &#8211; 12 &#8211; 18 
 &#8211; 21 &#8211; 27 kms\nhttps://mycyclingzone.fr/events/la-blessoise-202
 6-blessy/
URL:https://mycyclingzone.fr/events/la-blessoise-2026-blessy/
END:VEVENT
END:VCALENDAR