BEGIN:VCALENDAR
VERSION:2.0
PRODID:-//eventon.com NONSGML v1.0//EN
CALSCALE:GREGORIAN
METHOD:PUBLISH
BEGIN:VEVENT
UID:69eb4449bdcc1
DTSTAMP:20260424T102201Z
DTSTART:20260514T053000Z
DTEND:20260514T100000Z
LOCATION:Preures Stade 62650 PREURES
SUMMARY:La Preuzot' 2026 - PREURES
DESCRIPTION:4 parcours « VTT » de 20 &#8211; 40 &#8211; 60 &#8211; 80 kms
  3 parcours « Marche » de 6 &#8211; 12 &#8211; 16 kms\nhttps://mycyclingz
 one.fr/events/la-preuzot-2026-preures/
URL:https://mycyclingzone.fr/events/la-preuzot-2026-preures/
END:VEVENT
END:VCALENDAR