BEGIN:VCALENDAR
VERSION:2.0
PRODID:-//eventon.com NONSGML v1.0//EN
CALSCALE:GREGORIAN
METHOD:PUBLISH
BEGIN:VEVENT
UID:69e8c124dc2cd
DTSTAMP:20260422T123756Z
DTSTART:20260510T050000Z
DTEND:20260510T110000Z
LOCATION:Beuvry Salle du Tir\,  rue Clémenceau 62660 BEUVRY
SUMMARY:Brevet Albert Trinel 2026 - BEUVRY
DESCRIPTION:5 parcours « Route » de 17 &#8211; 29 &#8211; 57 &#8211; 80 &
 #8211; 99 kms 2 parcours « Marche » de 8 &#8211; 15 kms\nhttps://mycyclin
 gzone.fr/events/brevet-albert-trinel-2026-beuvry/
URL:https://mycyclingzone.fr/events/brevet-albert-trinel-2026-beuvry/
END:VEVENT
END:VCALENDAR