BEGIN:VCALENDAR
VERSION:2.0
PRODID:-//eventon.com NONSGML v1.0//EN
CALSCALE:GREGORIAN
METHOD:PUBLISH
BEGIN:VEVENT
UID:69e8bf2a3b134
DTSTAMP:20260422T122930Z
DTSTART:20260712T050000Z
DTEND:20260712T083000Z
LOCATION:Racquinghem Salle Jean Lefebvre\,  Rue de Roquetoire 62120 RACQUINGHEM
SUMMARY:La Draisienne 2026 - RACQUINGHEM
DESCRIPTION:4 parcours « Route » de 20 &#8211; 40 &#8211; 60 &#8211; 90 k
 ms 2 parcours « Marche » de 6 &#8211; 12 kms\nhttps://mycyclingzone.fr/ev
 ents/la-draisienne-2026-racquinghem/
URL:https://mycyclingzone.fr/events/la-draisienne-2026-racquinghem/
END:VEVENT
END:VCALENDAR