BEGIN:VCALENDAR
VERSION:2.0
PRODID:-//eventon.com NONSGML v1.0//EN
CALSCALE:GREGORIAN
METHOD:PUBLISH
BEGIN:VEVENT
UID:69eb2ac672158
DTSTAMP:20260424T083310Z
DTSTART:20260607T060000Z
DTEND:20260607T100000Z
LOCATION:Vauchelles-les-Quesnoy Route de Vauchelles\,  80132 VAUCHELLES-LES-QUESNOY
SUMMARY:La Rando des Tortues 2026 - ABBEVILLE
DESCRIPTION:1 parcours « Route » de 100 kms 3 parcours « VTT/Gravel » d
 e 30 &#8211; 50 &#8211; 60 kms 1 parcours « Marche » de 10 kms\nhttps://m
 ycyclingzone.fr/events/la-rando-des-tortues-2026-abbeville/
URL:https://mycyclingzone.fr/events/la-rando-des-tortues-2026-abbeville/
END:VEVENT
END:VCALENDAR