BEGIN:VCALENDAR
VERSION:2.0
PRODID:-//eventon.com NONSGML v1.0//EN
CALSCALE:GREGORIAN
METHOD:PUBLISH
BEGIN:VEVENT
UID:69e8c17931219
DTSTAMP:20260422T123921Z
DTSTART:20260524T050000Z
DTEND:20260524T100000Z
LOCATION:Angres Salle des Sport\,  32 rue du Maréchal Joffre 62143 ANGRES
SUMMARY:La Vandevelde 2026 - ANGRES
DESCRIPTION:3 parcours « Route » de 30 &#8211; 60 &#8211; 93 kms 3 parcou
 rs « Marche » de 10 &#8211; 15 &#8211; 18 kms\nhttps://mycyclingzone.fr/e
 vents/la-vandevelde-2026-angres/
URL:https://mycyclingzone.fr/events/la-vandevelde-2026-angres/
END:VEVENT
END:VCALENDAR